BEGIN:VCALENDAR
VERSION:2.0
PRODID:-//EELK Vastseliina kogudus - ECPv6.15.20//NONSGML v1.0//EN
CALSCALE:GREGORIAN
METHOD:PUBLISH
X-WR-CALNAME:EELK Vastseliina kogudus
X-ORIGINAL-URL:https://vastseliina.eelk.ee
X-WR-CALDESC:Events for EELK Vastseliina kogudus
REFRESH-INTERVAL;VALUE=DURATION:PT1H
X-Robots-Tag:noindex
X-PUBLISHED-TTL:PT1H
BEGIN:VTIMEZONE
TZID:Europe/Tallinn
BEGIN:DAYLIGHT
TZOFFSETFROM:+0200
TZOFFSETTO:+0300
TZNAME:EEST
DTSTART:20210328T010000
END:DAYLIGHT
BEGIN:STANDARD
TZOFFSETFROM:+0300
TZOFFSETTO:+0200
TZNAME:EET
DTSTART:20211031T010000
END:STANDARD
BEGIN:DAYLIGHT
TZOFFSETFROM:+0200
TZOFFSETTO:+0300
TZNAME:EEST
DTSTART:20220327T010000
END:DAYLIGHT
BEGIN:STANDARD
TZOFFSETFROM:+0300
TZOFFSETTO:+0200
TZNAME:EET
DTSTART:20221030T010000
END:STANDARD
BEGIN:DAYLIGHT
TZOFFSETFROM:+0200
TZOFFSETTO:+0300
TZNAME:EEST
DTSTART:20230326T010000
END:DAYLIGHT
BEGIN:STANDARD
TZOFFSETFROM:+0300
TZOFFSETTO:+0200
TZNAME:EET
DTSTART:20231029T010000
END:STANDARD
END:VTIMEZONE
BEGIN:VEVENT
DTSTART;TZID=Europe/Tallinn:20220807T120000
DTEND;TZID=Europe/Tallinn:20220807T120000
DTSTAMP:20260421T102330
CREATED:20220609T111019Z
LAST-MODIFIED:20220609T111019Z
UID:944-1659873600-1659873600@vastseliina.eelk.ee
SUMMARY:Missa Vastseliina kirikus
DESCRIPTION:9. pühapäev pärast nelipüha
URL:https://vastseliina.eelk.ee/syndmus/missa-vastseliina-kirikus-7/
LOCATION:Võru maakond
CATEGORIES:Jumalateenistused
END:VEVENT
BEGIN:VEVENT
DTSTART;TZID=Europe/Tallinn:20220814T120000
DTEND;TZID=Europe/Tallinn:20220814T120000
DTSTAMP:20260421T102330
CREATED:20220609T111300Z
LAST-MODIFIED:20220609T111300Z
UID:950-1660478400-1660478400@vastseliina.eelk.ee
SUMMARY:Missa Orava kultuurimajas
DESCRIPTION:
URL:https://vastseliina.eelk.ee/syndmus/missa-orava-kultuurimajas-3/
LOCATION:Võru maakond
CATEGORIES:Jumalateenistused
END:VEVENT
BEGIN:VEVENT
DTSTART;TZID=Europe/Tallinn:20220821T120000
DTEND;TZID=Europe/Tallinn:20220821T120000
DTSTAMP:20260421T102330
CREATED:20220609T111408Z
LAST-MODIFIED:20220716T060438Z
UID:952-1661083200-1661083200@vastseliina.eelk.ee
SUMMARY:Kuldleer Vastseliina kirikus
DESCRIPTION:Kuld- ja briljantleeripüha.
URL:https://vastseliina.eelk.ee/syndmus/missa-vastseliina-kirikus-8/
LOCATION:Võru maakond
CATEGORIES:Jumalateenistused
END:VEVENT
BEGIN:VEVENT
DTSTART;TZID=Europe/Tallinn:20220821T140000
DTEND;TZID=Europe/Tallinn:20220821T140000
DTSTAMP:20260421T102330
CREATED:20220609T111500Z
LAST-MODIFIED:20220609T111507Z
UID:954-1661090400-1661090400@vastseliina.eelk.ee
SUMMARY:Missa Misso kirikus
DESCRIPTION:
URL:https://vastseliina.eelk.ee/syndmus/missa-misso-kirikus-3/
LOCATION:Võru maakond
CATEGORIES:Jumalateenistused
END:VEVENT
BEGIN:VEVENT
DTSTART;TZID=Europe/Tallinn:20220828T140000
DTEND;TZID=Europe/Tallinn:20220828T140000
DTSTAMP:20260421T102330
CREATED:20220609T111556Z
LAST-MODIFIED:20220816T074423Z
UID:957-1661695200-1661695200@vastseliina.eelk.ee
SUMMARY:Vastseliina Katariina kiriku 250. aastapäeva jumalateenistus
DESCRIPTION:Laulab segakoor Hilaro ja Vastseliina koguduse koor
URL:https://vastseliina.eelk.ee/syndmus/vastseliina-katariina-kiriku-250-aastapaeva-jumalateenistus/
LOCATION:Võru maakond
CATEGORIES:Jumalateenistused
ATTACH;FMTTYPE=image/png:https://vastseliina.eelk.ee/wp-content/uploads/2022/06/VK-250_kutse-A3.png
END:VEVENT
END:VCALENDAR