BEGIN:VCALENDAR
VERSION:2.0
PRODID:-//EELK Vastseliina kogudus - ECPv6.15.20//NONSGML v1.0//EN
CALSCALE:GREGORIAN
METHOD:PUBLISH
X-WR-CALNAME:EELK Vastseliina kogudus
X-ORIGINAL-URL:https://vastseliina.eelk.ee
X-WR-CALDESC:Events for EELK Vastseliina kogudus
REFRESH-INTERVAL;VALUE=DURATION:PT1H
X-Robots-Tag:noindex
X-PUBLISHED-TTL:PT1H
BEGIN:VTIMEZONE
TZID:Europe/Tallinn
BEGIN:DAYLIGHT
TZOFFSETFROM:+0200
TZOFFSETTO:+0300
TZNAME:EEST
DTSTART:20210328T010000
END:DAYLIGHT
BEGIN:STANDARD
TZOFFSETFROM:+0300
TZOFFSETTO:+0200
TZNAME:EET
DTSTART:20211031T010000
END:STANDARD
BEGIN:DAYLIGHT
TZOFFSETFROM:+0200
TZOFFSETTO:+0300
TZNAME:EEST
DTSTART:20220327T010000
END:DAYLIGHT
BEGIN:STANDARD
TZOFFSETFROM:+0300
TZOFFSETTO:+0200
TZNAME:EET
DTSTART:20221030T010000
END:STANDARD
BEGIN:DAYLIGHT
TZOFFSETFROM:+0200
TZOFFSETTO:+0300
TZNAME:EEST
DTSTART:20230326T010000
END:DAYLIGHT
BEGIN:STANDARD
TZOFFSETFROM:+0300
TZOFFSETTO:+0200
TZNAME:EET
DTSTART:20231029T010000
END:STANDARD
END:VTIMEZONE
BEGIN:VEVENT
DTSTART;TZID=Europe/Tallinn:20221002T120000
DTEND;TZID=Europe/Tallinn:20221002T120000
DTSTAMP:20260421T121344
CREATED:20220930T065719Z
LAST-MODIFIED:20220930T082404Z
UID:1042-1664712000-1664712000@vastseliina.eelk.ee
SUMMARY:armulauaga jumalateenistus
DESCRIPTION:Jeesus annab elu– Kristus Jeesus on kõrvaldanud surma ning on evangeeliumi kaudu toonud valge ette elu ja kadumatuse. 2Tm 1:10 \n 
URL:https://vastseliina.eelk.ee/syndmus/jumalateenistus/
LOCATION:Vastseliina kirik\, Kirikla\, Külaoru küla\, Võru vald\, Võru maakond\, 65223\, Estonia
CATEGORIES:Jumalateenistused
END:VEVENT
BEGIN:VEVENT
DTSTART;TZID=Europe/Tallinn:20221009T120000
DTEND;TZID=Europe/Tallinn:20221009T120000
DTSTAMP:20260421T121344
CREATED:20220930T074405Z
LAST-MODIFIED:20220930T074405Z
UID:1048-1665316800-1665316800@vastseliina.eelk.ee
SUMMARY:Lõikustänupüha armulauaga jumalateenistus
DESCRIPTION:Igapäevane leib – Kõikide silmad ootavad Sind ja Sina annad neile nende roa omal ajal. Ps 145:15
URL:https://vastseliina.eelk.ee/syndmus/loikustanupuha-armulauaga-jumalateenistus/
LOCATION:Vastseliina kirik\, Kirikla\, Külaoru küla\, Võru vald\, Võru maakond\, 65223\, Estonia
CATEGORIES:Jumalateenistused
END:VEVENT
BEGIN:VEVENT
DTSTART;TZID=Europe/Tallinn:20221016T120000
DTEND;TZID=Europe/Tallinn:20221016T120000
DTSTAMP:20260421T121344
CREATED:20220930T074611Z
LAST-MODIFIED:20220930T075225Z
UID:1050-1665921600-1665921600@vastseliina.eelk.ee
SUMMARY:armulauaga jumalateenistus
DESCRIPTION:Suurim käsk – See käsk on meil temalt endalt\, et kes armastab Jumalat\, armastagu ka oma venda. 1Jh 4:21
URL:https://vastseliina.eelk.ee/syndmus/armulauaga-jumalateenistus/
LOCATION:Vastseliina kirik\, Kirikla\, Külaoru küla\, Võru vald\, Võru maakond\, 65223\, Estonia
CATEGORIES:Jumalateenistused
END:VEVENT
BEGIN:VEVENT
DTSTART;TZID=Europe/Tallinn:20221016T140000
DTEND;TZID=Europe/Tallinn:20221016T140000
DTSTAMP:20260421T121344
CREATED:20220930T074959Z
LAST-MODIFIED:20220930T081712Z
UID:1053-1665928800-1665928800@vastseliina.eelk.ee
SUMMARY:lõikustänupüha armulauaga jumalateenistus
DESCRIPTION:Igapäevane leib – Kõikide silmad ootavad Sind ja Sina annad neile nende roa omal ajal. Ps 145:15
URL:https://vastseliina.eelk.ee/syndmus/loikustanupuha-armulauaga-jumalateenistus-2/
LOCATION:Misso abikirik\, Riia maantee 6\, Misso alevik\, Rõuge vald\, Võru maakond
CATEGORIES:Jumalateenistused
END:VEVENT
BEGIN:VEVENT
DTSTART;TZID=Europe/Tallinn:20221023T120000
DTEND;TZID=Europe/Tallinn:20221023T120000
DTSTAMP:20260421T121344
CREATED:20221001T064536Z
LAST-MODIFIED:20221001T064536Z
UID:1064-1666526400-1666526400@vastseliina.eelk.ee
SUMMARY:Armulauaga jumalateenistus
DESCRIPTION:Usk ja uskmatus – Tee mind terveks\, Issand\, siis ma saan terveks; aita mind\, siis ma saan abi. Jr 17:14
URL:https://vastseliina.eelk.ee/syndmus/armulauaga-jumalateenistus-2/
LOCATION:Vastseliina kirik\, Kirikla\, Külaoru küla\, Võru vald\, Võru maakond\, 65223\, Estonia
CATEGORIES:Jumalateenistused
END:VEVENT
BEGIN:VEVENT
DTSTART;TZID=Europe/Tallinn:20221023T140000
DTEND;TZID=Europe/Tallinn:20221023T140000
DTSTAMP:20260421T121344
CREATED:20221001T070152Z
LAST-MODIFIED:20221001T070333Z
UID:1081-1666533600-1666533600@vastseliina.eelk.ee
SUMMARY:Armulauaga jumalateenistus
DESCRIPTION:Usk ja uskmatus – Tee mind terveks\, Issand\, siis ma saan terveks; aita mind\, siis ma saan abi. Jr 17:14
URL:https://vastseliina.eelk.ee/syndmus/armulauaga-jumalateenistus-7/
LOCATION:Orava kultuurimaja
CATEGORIES:Jumalateenistused
END:VEVENT
BEGIN:VEVENT
DTSTART;TZID=Europe/Tallinn:20221030T120000
DTEND;TZID=Europe/Tallinn:20221030T120000
DTSTAMP:20260421T121344
CREATED:20221001T064758Z
LAST-MODIFIED:20221001T064758Z
UID:1066-1667131200-1667131200@vastseliina.eelk.ee
SUMMARY:Armulauaga jumalateenistus
DESCRIPTION:Jeesuse saadikud – Tema on andnud sulle teada\, inimene\, mis on hea. Ja mida nõuab Issand sinult muud\, kui et sa teeksid\, mis on õige\, armastaksid headust ja käiksid alandlikult koos oma Jumalaga? Mi 6:8
URL:https://vastseliina.eelk.ee/syndmus/armulauaga-jumalateenistus-3/
LOCATION:Vastseliina kirik\, Kirikla\, Külaoru küla\, Võru vald\, Võru maakond\, 65223\, Estonia
CATEGORIES:Jumalateenistused
END:VEVENT
END:VCALENDAR