BEGIN:VCALENDAR
VERSION:2.0
PRODID:-//EELK Vastseliina kogudus - ECPv6.15.20//NONSGML v1.0//EN
CALSCALE:GREGORIAN
METHOD:PUBLISH
X-WR-CALNAME:EELK Vastseliina kogudus
X-ORIGINAL-URL:https://vastseliina.eelk.ee
X-WR-CALDESC:Events for EELK Vastseliina kogudus
REFRESH-INTERVAL;VALUE=DURATION:PT1H
X-Robots-Tag:noindex
X-PUBLISHED-TTL:PT1H
BEGIN:VTIMEZONE
TZID:UTC
BEGIN:STANDARD
TZOFFSETFROM:+0000
TZOFFSETTO:+0000
TZNAME:UTC
DTSTART:20210101T000000
END:STANDARD
END:VTIMEZONE
BEGIN:VEVENT
DTSTART;TZID=UTC:20220619T120000
DTEND;TZID=UTC:20220619T120000
DTSTAMP:20260421T154240
CREATED:20220608T095636Z
LAST-MODIFIED:20220609T111808Z
UID:899-1655640000-1655640000@vastseliina.eelk.ee
SUMMARY:Missa Vastseliina kirikus
DESCRIPTION:2. pühapäev pärast nelipüha
URL:https://vastseliina.eelk.ee/syndmus/missa-3/
LOCATION:Võru maakond
CATEGORIES:Jumalateenistused
END:VEVENT
BEGIN:VEVENT
DTSTART;TZID=UTC:20220619T140000
DTEND;TZID=UTC:20220619T140000
DTSTAMP:20260421T154240
CREATED:20220608T095730Z
LAST-MODIFIED:20220609T111800Z
UID:901-1655647200-1655647200@vastseliina.eelk.ee
SUMMARY:Missa Misso kirikus
DESCRIPTION:
URL:https://vastseliina.eelk.ee/syndmus/missa-4/
LOCATION:Võru maakond
CATEGORIES:Jumalateenistused
END:VEVENT
END:VCALENDAR