BEGIN:VCALENDAR
VERSION:2.0
PRODID:-//EELK Vastseliina kogudus - ECPv6.15.20//NONSGML v1.0//EN
CALSCALE:GREGORIAN
METHOD:PUBLISH
X-ORIGINAL-URL:https://vastseliina.eelk.ee
X-WR-CALDESC:Events for EELK Vastseliina kogudus
REFRESH-INTERVAL;VALUE=DURATION:PT1H
X-Robots-Tag:noindex
X-PUBLISHED-TTL:PT1H
BEGIN:VTIMEZONE
TZID:Europe/Tallinn
BEGIN:DAYLIGHT
TZOFFSETFROM:+0200
TZOFFSETTO:+0300
TZNAME:EEST
DTSTART:20210328T010000
END:DAYLIGHT
BEGIN:STANDARD
TZOFFSETFROM:+0300
TZOFFSETTO:+0200
TZNAME:EET
DTSTART:20211031T010000
END:STANDARD
BEGIN:DAYLIGHT
TZOFFSETFROM:+0200
TZOFFSETTO:+0300
TZNAME:EEST
DTSTART:20220327T010000
END:DAYLIGHT
BEGIN:STANDARD
TZOFFSETFROM:+0300
TZOFFSETTO:+0200
TZNAME:EET
DTSTART:20221030T010000
END:STANDARD
BEGIN:DAYLIGHT
TZOFFSETFROM:+0200
TZOFFSETTO:+0300
TZNAME:EEST
DTSTART:20230326T010000
END:DAYLIGHT
BEGIN:STANDARD
TZOFFSETFROM:+0300
TZOFFSETTO:+0200
TZNAME:EET
DTSTART:20231029T010000
END:STANDARD
END:VTIMEZONE
BEGIN:VEVENT
DTSTART;TZID=Europe/Tallinn:20220807T120000
DTEND;TZID=Europe/Tallinn:20220807T120000
DTSTAMP:20260421T114714
CREATED:20220609T111019Z
LAST-MODIFIED:20220609T111019Z
UID:944-1659873600-1659873600@vastseliina.eelk.ee
SUMMARY:Missa Vastseliina kirikus
DESCRIPTION:9. pühapäev pärast nelipüha
URL:https://vastseliina.eelk.ee/syndmus/missa-vastseliina-kirikus-7/
LOCATION:Võru maakond
CATEGORIES:Jumalateenistused
END:VEVENT
END:VCALENDAR