BEGIN:VCALENDAR
VERSION:2.0
PRODID:-//EELK Vastseliina kogudus - ECPv6.15.20//NONSGML v1.0//EN
CALSCALE:GREGORIAN
METHOD:PUBLISH
X-WR-CALNAME:EELK Vastseliina kogudus
X-ORIGINAL-URL:https://vastseliina.eelk.ee
X-WR-CALDESC:Events for EELK Vastseliina kogudus
REFRESH-INTERVAL;VALUE=DURATION:PT1H
X-Robots-Tag:noindex
X-PUBLISHED-TTL:PT1H
BEGIN:VTIMEZONE
TZID:Europe/Tallinn
BEGIN:DAYLIGHT
TZOFFSETFROM:+0200
TZOFFSETTO:+0300
TZNAME:EEST
DTSTART:20210328T010000
END:DAYLIGHT
BEGIN:STANDARD
TZOFFSETFROM:+0300
TZOFFSETTO:+0200
TZNAME:EET
DTSTART:20211031T010000
END:STANDARD
BEGIN:DAYLIGHT
TZOFFSETFROM:+0200
TZOFFSETTO:+0300
TZNAME:EEST
DTSTART:20220327T010000
END:DAYLIGHT
BEGIN:STANDARD
TZOFFSETFROM:+0300
TZOFFSETTO:+0200
TZNAME:EET
DTSTART:20221030T010000
END:STANDARD
BEGIN:DAYLIGHT
TZOFFSETFROM:+0200
TZOFFSETTO:+0300
TZNAME:EEST
DTSTART:20230326T010000
END:DAYLIGHT
BEGIN:STANDARD
TZOFFSETFROM:+0300
TZOFFSETTO:+0200
TZNAME:EET
DTSTART:20231029T010000
END:STANDARD
END:VTIMEZONE
BEGIN:VEVENT
DTSTART;TZID=Europe/Tallinn:20220828T140000
DTEND;TZID=Europe/Tallinn:20220828T140000
DTSTAMP:20260421T114715
CREATED:20220609T111556Z
LAST-MODIFIED:20220816T074423Z
UID:957-1661695200-1661695200@vastseliina.eelk.ee
SUMMARY:Vastseliina Katariina kiriku 250. aastapäeva jumalateenistus
DESCRIPTION:Laulab segakoor Hilaro ja Vastseliina koguduse koor
URL:https://vastseliina.eelk.ee/syndmus/vastseliina-katariina-kiriku-250-aastapaeva-jumalateenistus/
LOCATION:Võru maakond
CATEGORIES:Jumalateenistused
ATTACH;FMTTYPE=image/png:https://vastseliina.eelk.ee/wp-content/uploads/2022/06/VK-250_kutse-A3.png
END:VEVENT
END:VCALENDAR