BEGIN:VCALENDAR
VERSION:2.0
PRODID:-//EELK Vastseliina kogudus - ECPv6.15.20//NONSGML v1.0//EN
CALSCALE:GREGORIAN
METHOD:PUBLISH
X-WR-CALNAME:EELK Vastseliina kogudus
X-ORIGINAL-URL:https://vastseliina.eelk.ee
X-WR-CALDESC:Events for EELK Vastseliina kogudus
REFRESH-INTERVAL;VALUE=DURATION:PT1H
X-Robots-Tag:noindex
X-PUBLISHED-TTL:PT1H
BEGIN:VTIMEZONE
TZID:Europe/Tallinn
BEGIN:DAYLIGHT
TZOFFSETFROM:+0200
TZOFFSETTO:+0300
TZNAME:EEST
DTSTART:20210328T010000
END:DAYLIGHT
BEGIN:STANDARD
TZOFFSETFROM:+0300
TZOFFSETTO:+0200
TZNAME:EET
DTSTART:20211031T010000
END:STANDARD
BEGIN:DAYLIGHT
TZOFFSETFROM:+0200
TZOFFSETTO:+0300
TZNAME:EEST
DTSTART:20220327T010000
END:DAYLIGHT
BEGIN:STANDARD
TZOFFSETFROM:+0300
TZOFFSETTO:+0200
TZNAME:EET
DTSTART:20221030T010000
END:STANDARD
BEGIN:DAYLIGHT
TZOFFSETFROM:+0200
TZOFFSETTO:+0300
TZNAME:EEST
DTSTART:20230326T010000
END:DAYLIGHT
BEGIN:STANDARD
TZOFFSETFROM:+0300
TZOFFSETTO:+0200
TZNAME:EET
DTSTART:20231029T010000
END:STANDARD
END:VTIMEZONE
BEGIN:VEVENT
DTSTART;TZID=Europe/Tallinn:20221030T120000
DTEND;TZID=Europe/Tallinn:20221030T120000
DTSTAMP:20260419T161422
CREATED:20221001T064758Z
LAST-MODIFIED:20221001T064758Z
UID:1066-1667131200-1667131200@vastseliina.eelk.ee
SUMMARY:Armulauaga jumalateenistus
DESCRIPTION:Jeesuse saadikud – Tema on andnud sulle teada\, inimene\, mis on hea. Ja mida nõuab Issand sinult muud\, kui et sa teeksid\, mis on õige\, armastaksid headust ja käiksid alandlikult koos oma Jumalaga? Mi 6:8
URL:https://vastseliina.eelk.ee/syndmus/armulauaga-jumalateenistus-3/
LOCATION:Vastseliina kirik\, Kirikla\, Külaoru küla\, Võru vald\, Võru maakond\, 65223\, Estonia
CATEGORIES:Jumalateenistused
END:VEVENT
END:VCALENDAR