BEGIN:VCALENDAR
VERSION:2.0
PRODID:-//EELK Vastseliina kogudus - ECPv6.15.20//NONSGML v1.0//EN
CALSCALE:GREGORIAN
METHOD:PUBLISH
X-WR-CALNAME:EELK Vastseliina kogudus
X-ORIGINAL-URL:https://vastseliina.eelk.ee
X-WR-CALDESC:Events for EELK Vastseliina kogudus
REFRESH-INTERVAL;VALUE=DURATION:PT1H
X-Robots-Tag:noindex
X-PUBLISHED-TTL:PT1H
BEGIN:VTIMEZONE
TZID:Europe/Tallinn
BEGIN:DAYLIGHT
TZOFFSETFROM:+0200
TZOFFSETTO:+0300
TZNAME:EEST
DTSTART:20210328T010000
END:DAYLIGHT
BEGIN:STANDARD
TZOFFSETFROM:+0300
TZOFFSETTO:+0200
TZNAME:EET
DTSTART:20211031T010000
END:STANDARD
BEGIN:DAYLIGHT
TZOFFSETFROM:+0200
TZOFFSETTO:+0300
TZNAME:EEST
DTSTART:20220327T010000
END:DAYLIGHT
BEGIN:STANDARD
TZOFFSETFROM:+0300
TZOFFSETTO:+0200
TZNAME:EET
DTSTART:20221030T010000
END:STANDARD
BEGIN:DAYLIGHT
TZOFFSETFROM:+0200
TZOFFSETTO:+0300
TZNAME:EEST
DTSTART:20230326T010000
END:DAYLIGHT
BEGIN:STANDARD
TZOFFSETFROM:+0300
TZOFFSETTO:+0200
TZNAME:EET
DTSTART:20231029T010000
END:STANDARD
BEGIN:DAYLIGHT
TZOFFSETFROM:+0200
TZOFFSETTO:+0300
TZNAME:EEST
DTSTART:20240331T010000
END:DAYLIGHT
BEGIN:STANDARD
TZOFFSETFROM:+0300
TZOFFSETTO:+0200
TZNAME:EET
DTSTART:20241027T010000
END:STANDARD
BEGIN:DAYLIGHT
TZOFFSETFROM:+0200
TZOFFSETTO:+0300
TZNAME:EEST
DTSTART:20250330T010000
END:DAYLIGHT
BEGIN:STANDARD
TZOFFSETFROM:+0300
TZOFFSETTO:+0200
TZNAME:EET
DTSTART:20251026T010000
END:STANDARD
BEGIN:DAYLIGHT
TZOFFSETFROM:+0200
TZOFFSETTO:+0300
TZNAME:EEST
DTSTART:20260329T010000
END:DAYLIGHT
BEGIN:STANDARD
TZOFFSETFROM:+0300
TZOFFSETTO:+0200
TZNAME:EET
DTSTART:20261025T010000
END:STANDARD
END:VTIMEZONE
BEGIN:VEVENT
DTSTART;TZID=Europe/Tallinn:20251221T160000
DTEND;TZID=Europe/Tallinn:20251221T160000
DTSTAMP:20260423T231400
CREATED:20251021T165028Z
LAST-MODIFIED:20251021T165351Z
UID:2797-1766332800-1766332800@vastseliina.eelk.ee
SUMMARY:Jõulukontsert "ÜKS HETK"\, Lasva Meeskoor ja sõbrad
DESCRIPTION:Kaunimad jõululaulud toovad kuulajateni Lasva Meeskoor\, dirigent Jane Reiljan-Prätz ja  külalisesineja segakoor Claro\, dirigent Ermo Talvik. \nKontsert on tasuta\, oodatud on annetus kirikule.
URL:https://vastseliina.eelk.ee/syndmus/joulukontsert-uks-hetk-lasva-meeskoor-ja-sobrad/
LOCATION:Vastseliina kirik\, Kirikla\, Külaoru küla\, Võru vald\, Võru maakond\, 65223\, Estonia
CATEGORIES:Kontserdid
ATTACH;FMTTYPE=image/jpeg:https://vastseliina.eelk.ee/wp-content/uploads/2025/10/20251221_LaM_joulukontsert_Uks_hetk.jpg
END:VEVENT
BEGIN:VEVENT
DTSTART;TZID=Europe/Tallinn:20251218T180000
DTEND;TZID=Europe/Tallinn:20251218T180000
DTSTAMP:20260423T231400
CREATED:20251122T150524Z
LAST-MODIFIED:20251122T150524Z
UID:2848-1766080800-1766080800@vastseliina.eelk.ee
SUMMARY:Vastseliina Gümnaasiumi jõulukontsert “Sel ööl”
DESCRIPTION:Esinevad kooli väiksemad ja suuremad laululapsed.
URL:https://vastseliina.eelk.ee/syndmus/vastseliina-gumnaasiumi-joulukontsert-sel-ool/
LOCATION:Võru maakond
CATEGORIES:Kontserdid
ATTACH;FMTTYPE=image/jpeg:https://vastseliina.eelk.ee/wp-content/uploads/2025/11/Sel-ool.jpg
END:VEVENT
BEGIN:VEVENT
DTSTART;TZID=Europe/Tallinn:20251214T150000
DTEND;TZID=Europe/Tallinn:20251214T150000
DTSTAMP:20260423T231400
CREATED:20251122T150331Z
LAST-MODIFIED:20251127T183154Z
UID:2846-1765724400-1765724400@vastseliina.eelk.ee
SUMMARY:Jõulukontsert “Mõtisklus"
DESCRIPTION:Vastseliina Muusikakooli ansambel\, juhendab Anne-Ly Nedo. \nAnsamblis mängivad muusikakooli õpilased ning pillidest on esindatud akordion\, viiul\, kitarr ja kontrabass. Kontserdi repertuaaris on rahuliku loomuga tuntud lood maailma klassikast pop-ini.
URL:https://vastseliina.eelk.ee/syndmus/joulukontsert-motisklus/
LOCATION:Vastseliina kirik\, Kirikla\, Külaoru küla\, Võru vald\, Võru maakond\, 65223\, Estonia
CATEGORIES:Kontserdid
ATTACH;FMTTYPE=image/png:https://vastseliina.eelk.ee/wp-content/uploads/2025/11/VMK-ansambli-joulukontsert-Motistklus.png
END:VEVENT
BEGIN:VEVENT
DTSTART;TZID=Europe/Tallinn:20251102T120000
DTEND;TZID=Europe/Tallinn:20251102T120000
DTSTAMP:20260423T231400
CREATED:20250930T163947Z
LAST-MODIFIED:20251002T182243Z
UID:2743-1762084800-1762084800@vastseliina.eelk.ee
SUMMARY:Kõikide surnute mälestuspäev ehk hingedepäeva kontsert-missa
DESCRIPTION:Õndsad on surnud\, kes nüüdsest peale surevad Issandas! Ilm 14:13 \nHingedepäeval kõlab Vastseliina kirikus eriline kontsert-missa\, kus esitusele tuleb koguduse õpetaja ja helilooja Jaanus Torrimi sügav ja meditatiivne looming. See muusikaline rännak pakub võimalust vaikseks mõtiskluseks\, mälestuseks ja sisemiseks rahuks. Torrimi teosed loovad atmosfääri\, mis ühendab vaimsuse ja helikunsti – austusavaldus neile\, keda enam meie seas ei ole. \n 
URL:https://vastseliina.eelk.ee/syndmus/koikide-surnute-malestuspaev-ehk-hingedepaeva-kontsert-missa/
LOCATION:Vastseliina kirik\, Kirikla\, Külaoru küla\, Võru vald\, Võru maakond\, 65223\, Estonia
CATEGORIES:Jumalateenistused,Kontserdid
ATTACH;FMTTYPE=image/png:https://vastseliina.eelk.ee/wp-content/uploads/2025/09/Vastseliina-kirik-142x93mm-297-x-210-mm-420-x-297-mm-4.png
END:VEVENT
BEGIN:VEVENT
DTSTART;TZID=Europe/Tallinn:20250816T170000
DTEND;TZID=Europe/Tallinn:20250816T170000
DTSTAMP:20260423T231400
CREATED:20250622T144252Z
LAST-MODIFIED:20250622T144321Z
UID:2548-1755363600-1755363600@vastseliina.eelk.ee
SUMMARY:XXX Festivali Võru Vaskpillipäevade avakontsert "Pühendus"
DESCRIPTION:Esinevad trompeti- ja trombooni mängijad: Neeme Ots\, Jüri Leiten\, Toomas Vana\, Aabi Ausmaa. Orelil Meeli Ots ja Piret Randal.\nTASUTA
URL:https://vastseliina.eelk.ee/syndmus/xxx-festival-voru-vaskpillipaevade-avakontsert-puhendus/
LOCATION:Võru maakond
CATEGORIES:Kontserdid
ATTACH;FMTTYPE=image/jpeg:https://vastseliina.eelk.ee/wp-content/uploads/2025/06/da14772f-d6d6-4601-b02b-f488bc38337f.jpeg
END:VEVENT
BEGIN:VEVENT
DTSTART;TZID=Europe/Tallinn:20250808T200000
DTEND;TZID=Europe/Tallinn:20250808T200000
DTSTAMP:20260423T231400
CREATED:20250713T155008Z
LAST-MODIFIED:20250713T155008Z
UID:2634-1754683200-1754683200@vastseliina.eelk.ee
SUMMARY:VHK Keelpilliorkestri kontsert\, dirigent Rasmus Puur
DESCRIPTION:VHK keelpilliorkester on 26-liikmeline Vanalinna Hariduskolleegiumi muusikakooli õpilastest koosnev orkester\, mis loodi 1996. aastal. Orkestris musitseerivad noored vanuses 14–20 ning repertuaar koosneb pea ainult eesti muusikast alates Rudolf Tobiasest\, Cyrillus Kreegist ja Mart Saarest kuni Tõnu Kõrvitsa\, Arvo Pärdi ja Erkki-Sven Tüürini.\n\nSissepääs TASUTA\, võimalus teha annetus orkestri toetuseks.
URL:https://vastseliina.eelk.ee/syndmus/vhk-keelpilliorkestri-kontsert-dirigent-rasmus-puur/
LOCATION:Võru maakond
CATEGORIES:Kontserdid
ATTACH;FMTTYPE=image/png:https://vastseliina.eelk.ee/wp-content/uploads/2025/07/VHK-orkester-7.-9.08.2025_1920x1080.png
END:VEVENT
BEGIN:VEVENT
DTSTART;TZID=Europe/Tallinn:20250726T180000
DTEND;TZID=Europe/Tallinn:20250726T180000
DTSTAMP:20260423T231400
CREATED:20250603T142356Z
LAST-MODIFIED:20250723T194439Z
UID:2523-1753552800-1753552800@vastseliina.eelk.ee
SUMMARY:Kontsert "Pari Intervallo-Arvo Pärt 90"
DESCRIPTION:Duo ObSolute – Jaanika Kuusik ja Riivo Kallasmaa\, Ulla Krigul – orel. \nKontserdi meditatiivne kava loobkuulajatele ruumi sisekaemuseks ja vaimseks rännakuks ning pakub sügavat emotsionaalset kogemust. Vastseliina kiriku akustika võimaldab luua Pärdi loomingu esitamiseks parima võimaliku akustilise kogemuse. \nTasuta. Kontserdi eest vabaannetus kiriku remondiks.
URL:https://vastseliina.eelk.ee/syndmus/kontsert-pari-intervallo-arvo-part-90/
LOCATION:Vastseliina kirik\, Kirikla\, Külaoru küla\, Võru vald\, Võru maakond\, 65223\, Estonia
CATEGORIES:Kontserdid
ATTACH;FMTTYPE=image/png:https://vastseliina.eelk.ee/wp-content/uploads/2025/06/Symphonic-42-x-59.4-cm-6.png
END:VEVENT
BEGIN:VEVENT
DTSTART;TZID=Europe/Tallinn:20250531T150000
DTEND;TZID=Europe/Tallinn:20250531T150000
DTSTAMP:20260423T231400
CREATED:20250324T210620Z
LAST-MODIFIED:20250523T173939Z
UID:2362-1748703600-1748703600@vastseliina.eelk.ee
SUMMARY:Võru Muusikakooli sümfooniaorkestri kontsert
DESCRIPTION:Orkestri dirigent on Jaan Randvere\, solist Kaari Kattai.\nKavas: Mozart\, Sibelius\, Brahms\, Skoryk\, Tubin\, Sumera\, jt. \nTasuta. Kontserdi eest palume teha vabaannetuse kiriku remondiks.
URL:https://vastseliina.eelk.ee/syndmus/voru-muusikakooli-sumfooniaorkestri-kontsert-2/
LOCATION:Võru maakond
CATEGORIES:Kontserdid
ATTACH;FMTTYPE=image/png:https://vastseliina.eelk.ee/wp-content/uploads/2025/03/Symphonic-1500-x-1200-px-42-x-59.4-cm-4.png
END:VEVENT
BEGIN:VEVENT
DTSTART;TZID=Europe/Tallinn:20250510T160000
DTEND;TZID=Europe/Tallinn:20250510T160000
DTSTAMP:20260423T231400
CREATED:20250423T172319Z
LAST-MODIFIED:20250423T172411Z
UID:2443-1746892800-1746892800@vastseliina.eelk.ee
SUMMARY:Kontsert. KEELED\, VILED JA KEELVILED
DESCRIPTION:Lauri Sõõro – tšello\, Anna Humal – orel. \nKavas: Bach\, Arro\, Mägi\, Kõrvits\, Pärt jt.
URL:https://vastseliina.eelk.ee/syndmus/kontsert-keeled-viled-ja-keelviled-lauri-sooro-tsello-anna-humal-orel/
LOCATION:Vastseliina kirik\, Kirikla\, Külaoru küla\, Võru vald\, Võru maakond\, 65223\, Estonia
CATEGORIES:Kontserdid
ATTACH;FMTTYPE=image/png:https://vastseliina.eelk.ee/wp-content/uploads/2025/04/05-10_vastseliina.png
END:VEVENT
BEGIN:VEVENT
DTSTART;TZID=Europe/Tallinn:20241026T180000
DTEND;TZID=Europe/Tallinn:20241026T180000
DTSTAMP:20260423T231400
CREATED:20240929T092419Z
LAST-MODIFIED:20240929T092544Z
UID:2073-1729965600-1729965600@vastseliina.eelk.ee
SUMMARY:Ubi caritas. Tallinna Kammerkoor
DESCRIPTION:Dirigent Heli Jürgenson\, orelil Jaanus Torrim.\nKontserdil tulevad ettekandele peamiselt 20. ja 21. sajandi heliloojate teosed\, teiste seas ka Vastseliinas elanud Eesti helilooja Kuldar Singi tõlgendus „Ubi caritasest“. Kontserdi kava pakub kuulajatele väga põnevat ja mitmekülgset muusikalist rännakut – vaatamata sellele\, et kõikide laulude tekst on sama.\n\nKontsert on tasuta\, vabaannetus kiriku remondiks.
URL:https://vastseliina.eelk.ee/syndmus/ubi-caritas-tallinna-kammerkoor/
LOCATION:Vastseliina kirik\, Kirikla\, Külaoru küla\, Võru vald\, Võru maakond\, 65223\, Estonia
CATEGORIES:Kontserdid
ATTACH;FMTTYPE=image/png:https://vastseliina.eelk.ee/wp-content/uploads/2024/09/Plakat_Vastseliina_2024.png
END:VEVENT
BEGIN:VEVENT
DTSTART;TZID=Europe/Tallinn:20240831T170000
DTEND;TZID=Europe/Tallinn:20240831T170000
DTSTAMP:20260423T231400
CREATED:20240722T110416Z
LAST-MODIFIED:20240722T110416Z
UID:1870-1725123600-1725123600@vastseliina.eelk.ee
SUMMARY:Orelikontsert
DESCRIPTION:
URL:https://vastseliina.eelk.ee/syndmus/orelikontsert-2/
LOCATION:Vastseliina kirik\, Kirikla\, Külaoru küla\, Võru vald\, Võru maakond\, 65223\, Estonia
CATEGORIES:Kontserdid
ATTACH;FMTTYPE=application/pdf:https://vastseliina.eelk.ee/wp-content/uploads/2024/07/Kontsert-31.08.2024.pdf
END:VEVENT
BEGIN:VEVENT
DTSTART;TZID=Europe/Tallinn:20240823T180000
DTEND;TZID=Europe/Tallinn:20240823T180000
DTSTAMP:20260423T231400
CREATED:20240811T163438Z
LAST-MODIFIED:20240811T180655Z
UID:2003-1724436000-1724436000@vastseliina.eelk.ee
SUMMARY:Avinurme meeskoori kontsert
DESCRIPTION:Avinurme meeskoor on alates aastast 1983 tegutsev meeskoor. Koori dirigent on Urve Tooming.
URL:https://vastseliina.eelk.ee/syndmus/avinurme-meeskoori-kontsert/
LOCATION:Vastseliina kirik\, Kirikla\, Külaoru küla\, Võru vald\, Võru maakond\, 65223\, Estonia
CATEGORIES:Kontserdid
ATTACH;FMTTYPE=image/png:https://vastseliina.eelk.ee/wp-content/uploads/2024/08/Avimurme-meeskoor23.08.2024-1.png
END:VEVENT
BEGIN:VEVENT
DTSTART;TZID=Europe/Tallinn:20240816T190000
DTEND;TZID=Europe/Tallinn:20240816T190000
DTSTAMP:20260423T231400
CREATED:20240718T181326Z
LAST-MODIFIED:20240718T182100Z
UID:1837-1723834800-1723834800@vastseliina.eelk.ee
SUMMARY:Võru Vaskpillipäevade avakontsert "Pühendus"
DESCRIPTION:NEEME OTS (trompet)\, AARNE OTS (trompet)\, MATTIS-JOHAN MERE (trompet)\, TOOMAS VANA (tromboon)\, Tallinna Trompetiansambel\,\nMEELI OTS (klaver/orel)\, PIRET RANDALA (klaver/orel).\n  \nKontserdile sissepääs tasuta\nVaata lisaks https://www.facebook.com/VORUVASK/
URL:https://vastseliina.eelk.ee/syndmus/voru-vaskpillipaevade-avakontsert-puhendus/
LOCATION:Vastseliina kirik\, Kirikla\, Külaoru küla\, Võru vald\, Võru maakond\, 65223\, Estonia
CATEGORIES:Kontserdid
ATTACH;FMTTYPE=image/jpeg:https://vastseliina.eelk.ee/wp-content/uploads/2024/07/Neeme-Ots.jpeg
END:VEVENT
BEGIN:VEVENT
DTSTART;TZID=Europe/Tallinn:20240704T200000
DTEND;TZID=Europe/Tallinn:20240704T200000
DTSTAMP:20260423T231400
CREATED:20240613T181432Z
LAST-MODIFIED:20240625T202623Z
UID:1791-1720123200-1720123200@vastseliina.eelk.ee
SUMMARY:Kontsert. VHK Keelpilliorkester\, dirigent Rasmus Puur
DESCRIPTION:
URL:https://vastseliina.eelk.ee/syndmus/vhk-keelpilliorkester-ja-dirigent-rasmus-puur/
LOCATION:Vastseliina kirik\, Kirikla\, Külaoru küla\, Võru vald\, Võru maakond\, 65223\, Estonia
CATEGORIES:Kontserdid
END:VEVENT
BEGIN:VEVENT
DTSTART;TZID=Europe/Tallinn:20240620T170000
DTEND;TZID=Europe/Tallinn:20240620T170000
DTSTAMP:20260423T231400
CREATED:20240611T053416Z
LAST-MODIFIED:20240613T181648Z
UID:1787-1718902800-1718902800@vastseliina.eelk.ee
SUMMARY:Orelikontsert
DESCRIPTION:Muusikat Bachist tänapäevani. Multi-instrumentalist Marten Meibaumi orelikontsert.
URL:https://vastseliina.eelk.ee/syndmus/orelikontsert/
LOCATION:Vastseliina kirik\, Kirikla\, Külaoru küla\, Võru vald\, Võru maakond\, 65223\, Estonia
CATEGORIES:Kontserdid
END:VEVENT
BEGIN:VEVENT
DTSTART;TZID=Europe/Tallinn:20240518T170000
DTEND;TZID=Europe/Tallinn:20240518T170000
DTSTAMP:20260423T231400
CREATED:20240314T160837Z
LAST-MODIFIED:20240314T160837Z
UID:1665-1716051600-1716051600@vastseliina.eelk.ee
SUMMARY:Süda on püha paik. Emadele mõeldes
DESCRIPTION:Annaliisa Otsa\, metsosopran\nAnna Humal\, orel \nKavas: Peeter Süda\, Franz Schubert\, Cesar Franck\, Helen Tobias – Tuesberg\, Marje Sink\, Alfred Karindi\, Mihkel Lüdig\, Urmas Sisask\, jt. \nKontserdi järgselt on huvilistele ORELIKOOL (30 min) ja HÄÄLEKOOL (30 min).\nOrelikoolis tutvustab Anna Humal pillide kuningat. Mille poolest on orel inimesele sarnane?\nHäälekoolis räägib Annaliisa Otsa laulmise salanõksudest. Kuidas hoida oma häält\, kuidas reguleerida hingamist?\nOreli- ja häälekool on tasuta\, eelregistreerimise alusel tel 5097990.
URL:https://vastseliina.eelk.ee/syndmus/suda-on-puha-paik-emadele-moeldes/
LOCATION:Vastseliina kirik\, Kirikla\, Külaoru küla\, Võru vald\, Võru maakond\, 65223\, Estonia
CATEGORIES:Kontserdid
END:VEVENT
BEGIN:VEVENT
DTSTART;TZID=Europe/Tallinn:20240309T160000
DTEND;TZID=Europe/Tallinn:20240309T160000
DTSTAMP:20260423T231400
CREATED:20240226T073145Z
LAST-MODIFIED:20240226T073145Z
UID:1633-1710000000-1710000000@vastseliina.eelk.ee
SUMMARY:Tšellokontsert - Eva-Lotta Krigul
DESCRIPTION:Eva-Lotta Krigul on Eesti Muusika-ja Teatriakadeemia üliõpilane. Teekond tšelloga algas Võru muusikakoolis Ivo Juuli ja Heiki Palmi juhendamisel\, seejärel jätkusid õpinguid Tartus Heino Elleri muusikakoolis Reet Metsa tšelloklassis\, praegu õpib Eva-Lotta akadeemias 2. kursusel Indrek Leivategija käe all. Eva-Lotta on osalenud paljude hinnatud Eesti ja välismaa õppejõudude meistriklassides\, nende hulgas Marcel Johannes Kits\, Henry-David Varema\, Zvi Plesser\, Henrik Brendstrup\, Fabio Presgrave\, Gleb Pyšniak\, Alexander Chaushian jpt.\nÕpingute jooksul on Eva-Lotta osa võtnud mitmetest konkurss-festivalidest nii Eestis kui ka välismaal\, saavutades Eesti noorte keelpillimängijate konkursil 2019. aastal eripreemia ja samal konkursil 2021. aastal laureaaditiitli.\nEva-Lotta on teinud kaasa erinevate orkestrite töös\, sh Pärnu linnaorkestris\, Lõuna-Eesti kammerorkestris ja Klaaspärlimäng Sinfoniettas. Lisaks tegutseb aktiivselt erinevates kammeransamblites.\nTasuta\, vabaannetus \n 
URL:https://vastseliina.eelk.ee/syndmus/tsellokontsert-eva-lotta-krigul/
LOCATION:Vastseliina kirik\, Kirikla\, Külaoru küla\, Võru vald\, Võru maakond\, 65223\, Estonia
CATEGORIES:Kontserdid
ATTACH;FMTTYPE=image/png:https://vastseliina.eelk.ee/wp-content/uploads/2024/02/Untitled-1.png
END:VEVENT
BEGIN:VEVENT
DTSTART;TZID=Europe/Tallinn:20231217T140000
DTEND;TZID=Europe/Tallinn:20231217T140000
DTSTAMP:20260423T231400
CREATED:20231113T095755Z
LAST-MODIFIED:20231122T123508Z
UID:1501-1702821600-1702821600@vastseliina.eelk.ee
SUMMARY:Henn Rebane  KIIRTEEL. Autoriplaadi esitluskontsert
DESCRIPTION:Henn Rebane (akordion)\, Tiia Tenno (orel)\, Neeme Ots (trompet)
URL:https://vastseliina.eelk.ee/syndmus/plaaniesitluskontsert/
LOCATION:Vastseliina kirik\, Kirikla\, Külaoru küla\, Võru vald\, Võru maakond\, 65223\, Estonia
CATEGORIES:Kontserdid
END:VEVENT
BEGIN:VEVENT
DTSTART;TZID=Europe/Tallinn:20231210T140000
DTEND;TZID=Europe/Tallinn:20231210T140000
DTSTAMP:20260423T231400
CREATED:20231106T103558Z
LAST-MODIFIED:20231106T103933Z
UID:1488-1702216800-1702216800@vastseliina.eelk.ee
SUMMARY:Kontsert "Süda - see on rahu"
DESCRIPTION:jõululaule esitab Meelis ja Katrin duo
URL:https://vastseliina.eelk.ee/syndmus/kontsert-suda-see-on-rahu/
LOCATION:Vastseliina kirik\, Kirikla\, Külaoru küla\, Võru vald\, Võru maakond\, 65223\, Estonia
CATEGORIES:Kontserdid
END:VEVENT
BEGIN:VEVENT
DTSTART;TZID=Europe/Tallinn:20231014T170000
DTEND;TZID=Europe/Tallinn:20231014T170000
DTSTAMP:20260423T231400
CREATED:20231012T051951Z
LAST-MODIFIED:20231012T051951Z
UID:1461-1697302800-1697302800@vastseliina.eelk.ee
SUMMARY:Tobiase taevased templid
DESCRIPTION:Sellel aastal veel üks muusikaline maiuspala Vastseliina kirikus\n14 oktoobril 2023 algusega kell 17.\nTule kuulama\, milliseid võimsaid templeid Tobias oma muusikaga suudab ehitada!
URL:https://vastseliina.eelk.ee/syndmus/tobiase-taevased-templid/
LOCATION:Vastseliina kirik\, Kirikla\, Külaoru küla\, Võru vald\, Võru maakond\, 65223\, Estonia
CATEGORIES:Kontserdid
END:VEVENT
BEGIN:VEVENT
DTSTART;TZID=Europe/Tallinn:20230929T180000
DTEND;TZID=Europe/Tallinn:20230929T180000
DTSTAMP:20260423T231400
CREATED:20230827T085345Z
LAST-MODIFIED:20230827T085345Z
UID:1423-1696010400-1696010400@vastseliina.eelk.ee
SUMMARY:Mihklipäeva muusikaline õhtupalvus
DESCRIPTION:Annabel Soode on kauni häälega noor laulja\, kes on muusikuna juba väga palju saavutanud. Näiteks 2022 aastal saavutas ta IV Vabariiklik vokalistide konkursil I koha. Vaata ka https://www.muusikafestival.ee/annabel-soode/\nArmastatud organist Ene Salumäe on tuntud nii solisti kui ka kammermuusikuna\, kes esineb regulaarselt kodu- ja välismaal. Salumäe on olnud pikalt mitmete Eesti ja Soome koguduste organist-koorijuht ning oreli- ja kirikumuusika õppejõud Tartu Ülikooli Viljandi Kultuuriakadeemias ja EELK Usuteaduse Instituudis.
URL:https://vastseliina.eelk.ee/syndmus/mihklipaeva-muusikaline-ohtupalvus/
LOCATION:Vastseliina kirik\, Kirikla\, Külaoru küla\, Võru vald\, Võru maakond\, 65223\, Estonia
CATEGORIES:Kontserdid
END:VEVENT
BEGIN:VEVENT
DTSTART;TZID=Europe/Tallinn:20230809T200000
DTEND;TZID=Europe/Tallinn:20230809T200000
DTSTAMP:20260423T231400
CREATED:20230722T180944Z
LAST-MODIFIED:20230722T180944Z
UID:1376-1691611200-1691611200@vastseliina.eelk.ee
SUMMARY:VHK keelpilliorkestri kontsert
DESCRIPTION:
URL:https://vastseliina.eelk.ee/syndmus/vhk-keelpilliorkestri-kontsert/
LOCATION:Vastseliina kirik\, Kirikla\, Külaoru küla\, Võru vald\, Võru maakond\, 65223\, Estonia
CATEGORIES:Kontserdid
ATTACH;FMTTYPE=image/jpeg:https://vastseliina.eelk.ee/wp-content/uploads/2023/07/VHK-Keelpilliorgester-09.08.2023.jpg
END:VEVENT
BEGIN:VEVENT
DTSTART;TZID=Europe/Tallinn:20230805T170000
DTEND;TZID=Europe/Tallinn:20230805T170000
DTSTAMP:20260423T231400
CREATED:20230703T093350Z
LAST-MODIFIED:20230703T093350Z
UID:1369-1691254800-1691254800@vastseliina.eelk.ee
SUMMARY:Kontsert "Ingli vari"
DESCRIPTION:esinevad Anna Humal orelil ja kammerkoor Ventus
URL:https://vastseliina.eelk.ee/syndmus/kontsert-ingli-vari/
LOCATION:Vastseliina kirik\, Kirikla\, Külaoru küla\, Võru vald\, Võru maakond\, 65223\, Estonia
CATEGORIES:Kontserdid
ATTACH;FMTTYPE=image/jpeg:https://vastseliina.eelk.ee/wp-content/uploads/2023/07/Ingli-vari-A3.jpg
END:VEVENT
BEGIN:VEVENT
DTSTART;TZID=Europe/Tallinn:20230723T160000
DTEND;TZID=Europe/Tallinn:20230723T160000
DTSTAMP:20260423T231400
CREATED:20230404T150929Z
LAST-MODIFIED:20250218T193306Z
UID:1220-1690128000-1690128000@vastseliina.eelk.ee
SUMMARY:Võru Muusikakooli Sümfooniaorkestri kontsert
DESCRIPTION:dirigent Jaan Randvere. \nKontsert on tasuta.
URL:https://vastseliina.eelk.ee/syndmus/voru-muusikakooli-sumfooniaorkestri-kontsert/
LOCATION:Vastseliina kirik\, Kirikla\, Külaoru küla\, Võru vald\, Võru maakond\, 65223\, Estonia
CATEGORIES:Kontserdid
END:VEVENT
BEGIN:VEVENT
DTSTART;TZID=Europe/Tallinn:20230625T170000
DTEND;TZID=Europe/Tallinn:20230625T170000
DTSTAMP:20260423T231400
CREATED:20230519T074624Z
LAST-MODIFIED:20230519T074624Z
UID:1262-1687712400-1687712400@vastseliina.eelk.ee
SUMMARY:Maa ja taeva laulud
DESCRIPTION:kontsert “Maa ja taeva laulud”\nInes Maidre – orel\nIngmar Simson-Valting – viiul
URL:https://vastseliina.eelk.ee/syndmus/maa-ja-taeva-laulud/
LOCATION:Vastseliina kirik\, Kirikla\, Külaoru küla\, Võru vald\, Võru maakond\, 65223\, Estonia
CATEGORIES:Kontserdid
ATTACH;FMTTYPE=image/png:https://vastseliina.eelk.ee/wp-content/uploads/2023/05/Maa-ja-taeva-laulud_25.06.2023_plakat-toetaja.png
END:VEVENT
BEGIN:VEVENT
DTSTART;TZID=Europe/Tallinn:20230527T170000
DTEND;TZID=Europe/Tallinn:20230527T170000
DTSTAMP:20260423T231400
CREATED:20230404T150521Z
LAST-MODIFIED:20230404T151152Z
UID:1217-1685206800-1685206800@vastseliina.eelk.ee
SUMMARY:käsikellade ansambel Helisev Tremolo kontsert
DESCRIPTION:juhendab Sirje Pääslane-Tippi. \nKontsert on tasuta.
URL:https://vastseliina.eelk.ee/syndmus/kasikellade-ansambel-helisev-tremolo-kontsert/
LOCATION:Vastseliina kirik\, Kirikla\, Külaoru küla\, Võru vald\, Võru maakond\, 65223\, Estonia
CATEGORIES:Kontserdid
ATTACH;FMTTYPE=image/png:https://vastseliina.eelk.ee/wp-content/uploads/2023/04/Helisev-Tremolo_plakat.png
END:VEVENT
BEGIN:VEVENT
DTSTART;TZID=Europe/Tallinn:20220929T180000
DTEND;TZID=Europe/Tallinn:20220929T180000
DTSTAMP:20260423T231400
CREATED:20220926T162552Z
LAST-MODIFIED:20220926T162656Z
UID:1037-1664474400-1664474400@vastseliina.eelk.ee
SUMMARY:29.09.2022 kell 18 Vastseliina kirikus
DESCRIPTION:Vastseliina kiriku suvise kontserdihooaja lõpetab tõeline maiuspala kõigile muusika sõpradele.\nKavas on Johann Sebastian Bachi keerulise polüfooniaga tuntud teosed\, kui ka kaasaegsete Eesti heliloojate\, eelkõige Siim Aimla enda looming.
URL:https://vastseliina.eelk.ee/syndmus/29-09-2022-kell-18-vastseliina-kirikus/
LOCATION:Võru maakond
CATEGORIES:Kontserdid
ATTACH;FMTTYPE=image/png:https://vastseliina.eelk.ee/wp-content/uploads/2022/09/Bach-ja-palved_vers-3-002.png
END:VEVENT
BEGIN:VEVENT
DTSTART;TZID=Europe/Tallinn:20220827T170000
DTEND;TZID=Europe/Tallinn:20220827T170000
DTSTAMP:20260423T231400
CREATED:20220710T143943Z
LAST-MODIFIED:20220803T124646Z
UID:1020-1661619600-1661619600@vastseliina.eelk.ee
SUMMARY:Vanamuusikaansambel Rondellus kontsert
DESCRIPTION:Kavas Cantigas de Santa Maria (laulud Neitsi Maarjale). Vabaannetus.
URL:https://vastseliina.eelk.ee/syndmus/vanamuusikaansambel-rondellus-kontsert/
LOCATION:Võru maakond
CATEGORIES:Kontserdid
ATTACH;FMTTYPE=image/jpeg:https://vastseliina.eelk.ee/wp-content/uploads/2022/08/Rondellus_27aug_Vastseliina.jpg
END:VEVENT
BEGIN:VEVENT
DTSTART;TZID=Europe/Tallinn:20220709T180000
DTEND;TZID=Europe/Tallinn:20220709T180000
DTSTAMP:20260423T231400
CREATED:20220616T102503Z
LAST-MODIFIED:20220617T064807Z
UID:1012-1657389600-1657389600@vastseliina.eelk.ee
SUMMARY:kammerkoori Head Ööd\, Vend suvekontsert
DESCRIPTION:Dirigent Pärt Uusberg. \nTegemist on kooriga\, mis pälvis Eesti Kooriühingu poolt tunnustuse “Aasta koor 2021” ja dirigent Pärt Uusberg tunnustati “Aasta dirigent 2021” tiitliga. \nKavas Cyrillus Kreegi\, Arvo Pärdi ja dirigendi Pärt Uusbergi enda vaimulik koorimuusika. \nKontsert on tasuta.
URL:https://vastseliina.eelk.ee/syndmus/kammerkoori-head-ood-vend-suvekontsert/
LOCATION:Võru maakond
CATEGORIES:Kontserdid
ATTACH;FMTTYPE=image/jpeg:https://vastseliina.eelk.ee/wp-content/uploads/2022/06/HÖV-suvekontsert-2022-01_Small.jpg
END:VEVENT
BEGIN:VEVENT
DTSTART;TZID=Europe/Tallinn:20220707T200000
DTEND;TZID=Europe/Tallinn:20220707T200000
DTSTAMP:20260423T231400
CREATED:20220616T102254Z
LAST-MODIFIED:20220627T095835Z
UID:1010-1657224000-1657224000@vastseliina.eelk.ee
SUMMARY:Vanalinna Hariduskolleegiumi Keelpilliorkestri suvekontsert
DESCRIPTION:Dirigent Rasmus Puur\, kes 2021 aastal presidendi noore kultuuritegelase preemia tunnustuse osaliseks. \nKui aasta tagasi esitati Mart Saare muusikat\, siis tänavu kõlab kontserdil Veljo Tormise muusika. \nKontsert on tasuta.
URL:https://vastseliina.eelk.ee/syndmus/vanalinna-hariduskolleegiumi-keelpilliorkestri-suvekontsert/
LOCATION:Võru maakond
CATEGORIES:Kontserdid
ATTACH;FMTTYPE=application/pdf:https://vastseliina.eelk.ee/wp-content/uploads/2022/06/VHK-ORKESTER-LOUNA-EESTIS-2.pdf
END:VEVENT
END:VCALENDAR