BEGIN:VCALENDAR
VERSION:2.0
PRODID:-//EELK Vastseliina kogudus - ECPv6.15.20//NONSGML v1.0//EN
CALSCALE:GREGORIAN
METHOD:PUBLISH
X-WR-CALNAME:EELK Vastseliina kogudus
X-ORIGINAL-URL:https://vastseliina.eelk.ee
X-WR-CALDESC:Events for EELK Vastseliina kogudus
REFRESH-INTERVAL;VALUE=DURATION:PT1H
X-Robots-Tag:noindex
X-PUBLISHED-TTL:PT1H
BEGIN:VTIMEZONE
TZID:Europe/Tallinn
BEGIN:DAYLIGHT
TZOFFSETFROM:+0200
TZOFFSETTO:+0300
TZNAME:EEST
DTSTART:20210328T010000
END:DAYLIGHT
BEGIN:STANDARD
TZOFFSETFROM:+0300
TZOFFSETTO:+0200
TZNAME:EET
DTSTART:20211031T010000
END:STANDARD
BEGIN:DAYLIGHT
TZOFFSETFROM:+0200
TZOFFSETTO:+0300
TZNAME:EEST
DTSTART:20220327T010000
END:DAYLIGHT
BEGIN:STANDARD
TZOFFSETFROM:+0300
TZOFFSETTO:+0200
TZNAME:EET
DTSTART:20221030T010000
END:STANDARD
BEGIN:DAYLIGHT
TZOFFSETFROM:+0200
TZOFFSETTO:+0300
TZNAME:EEST
DTSTART:20230326T010000
END:DAYLIGHT
BEGIN:STANDARD
TZOFFSETFROM:+0300
TZOFFSETTO:+0200
TZNAME:EET
DTSTART:20231029T010000
END:STANDARD
BEGIN:DAYLIGHT
TZOFFSETFROM:+0200
TZOFFSETTO:+0300
TZNAME:EEST
DTSTART:20240331T010000
END:DAYLIGHT
BEGIN:STANDARD
TZOFFSETFROM:+0300
TZOFFSETTO:+0200
TZNAME:EET
DTSTART:20241027T010000
END:STANDARD
BEGIN:DAYLIGHT
TZOFFSETFROM:+0200
TZOFFSETTO:+0300
TZNAME:EEST
DTSTART:20250330T010000
END:DAYLIGHT
BEGIN:STANDARD
TZOFFSETFROM:+0300
TZOFFSETTO:+0200
TZNAME:EET
DTSTART:20251026T010000
END:STANDARD
END:VTIMEZONE
BEGIN:VEVENT
DTSTART;TZID=Europe/Tallinn:20240601T100000
DTEND;TZID=Europe/Tallinn:20240601T110000
DTSTAMP:20260422T030950
CREATED:20240421T085653Z
LAST-MODIFIED:20240421T085653Z
UID:1745-1717236000-1717239600@vastseliina.eelk.ee
SUMMARY:Kirikuvanemate koolitus
DESCRIPTION:Koolitusel käsitleme järgmiseid teemasid:\n1. Kirikuvanema olemus ja teenimine. Riietus ja risti kandmine.\n2. Kiriku korrashoid – kirikuruum\, altar\, kantsel ja muud ruumid.\n3. Jumalateenistuse ettevalmistamine – armulaud\, kirikukellade helistamine\, küünlad ja muud jumalateenistusega seotud tegevused.\n4. Kiriklikud talitused. Lähtuvalt kohalikes tavadest.\nKoolitusele on oodatud ka kõik koguduse liikmed\, kes soovivad hakata kirikuvanemana Vastseliina kogudust teenima.
URL:https://vastseliina.eelk.ee/syndmus/kirikuvanemate-koolitus/
LOCATION:Vastseliina kirik\, Kirikla\, Külaoru küla\, Võru vald\, Võru maakond\, 65223\, Estonia
CATEGORIES:Varia
END:VEVENT
BEGIN:VEVENT
DTSTART;TZID=Europe/Tallinn:20231209T100000
DTEND;TZID=Europe/Tallinn:20231209T100000
DTSTAMP:20260422T030950
CREATED:20231106T103347Z
LAST-MODIFIED:20231106T103347Z
UID:1484-1702116000-1702116000@vastseliina.eelk.ee
SUMMARY:Kuuse kaunistamine
DESCRIPTION:
URL:https://vastseliina.eelk.ee/syndmus/kuuse-kaunistamine/
LOCATION:Vastseliina kirik\, Kirikla\, Külaoru küla\, Võru vald\, Võru maakond\, 65223\, Estonia
CATEGORIES:Varia
END:VEVENT
BEGIN:VEVENT
DTSTART;TZID=Europe/Tallinn:20230928T160000
DTEND;TZID=Europe/Tallinn:20230928T160000
DTSTAMP:20260422T030950
CREATED:20230926T141751Z
LAST-MODIFIED:20230926T141751Z
UID:1451-1695916800-1695916800@vastseliina.eelk.ee
SUMMARY:Mälestuskivi pühitsemine
DESCRIPTION:28. septembril kell 16 pühitsetakse Vastseliina kiriku maadel unustusse jäetud Sergamatusel Peter Sarniti konserveeritud monument. Sündmust korraldab Vastseliina Teisipäevaklubi MTÜ
URL:https://vastseliina.eelk.ee/syndmus/malestuskivi-puhitsemine/
CATEGORIES:Varia
END:VEVENT
BEGIN:VEVENT
DTSTART;TZID=Europe/Tallinn:20221210T120000
DTEND;TZID=Europe/Tallinn:20221210T120000
DTSTAMP:20260422T030950
CREATED:20221114T091140Z
LAST-MODIFIED:20221114T091140Z
UID:1113-1670673600-1670673600@vastseliina.eelk.ee
SUMMARY:Kirikus kuuse kaunistamine
DESCRIPTION:
URL:https://vastseliina.eelk.ee/syndmus/kirikus-kuuse-kaunistamine/
LOCATION:Vastseliina kirik\, Kirikla\, Külaoru küla\, Võru vald\, Võru maakond\, 65223\, Estonia
CATEGORIES:Varia
END:VEVENT
BEGIN:VEVENT
DTSTART;TZID=Europe/Tallinn:20220814T120000
DTEND;TZID=Europe/Tallinn:20220814T120000
DTSTAMP:20260422T030950
CREATED:20220609T111211Z
LAST-MODIFIED:20220609T111211Z
UID:948-1660478400-1660478400@vastseliina.eelk.ee
SUMMARY:Vastseliina II kalmistupüha
DESCRIPTION:Mängib puhkpilliansambel Valdur Helmi juhatamisel
URL:https://vastseliina.eelk.ee/syndmus/vastseliina-ii-kalmistupuha/
CATEGORIES:Varia
END:VEVENT
BEGIN:VEVENT
DTSTART;TZID=Europe/Tallinn:20220807T140000
DTEND;TZID=Europe/Tallinn:20220807T140000
DTSTAMP:20260422T030950
CREATED:20220609T111107Z
LAST-MODIFIED:20220609T111718Z
UID:946-1659880800-1659880800@vastseliina.eelk.ee
SUMMARY:Misso kalmistupüha
DESCRIPTION:Mängib puhkpilliansambel Valdur Helmi juhatamisel
URL:https://vastseliina.eelk.ee/syndmus/misso-kalmistupuha/
CATEGORIES:Varia
END:VEVENT
BEGIN:VEVENT
DTSTART;TZID=Europe/Tallinn:20220710T140000
DTEND;TZID=Europe/Tallinn:20220710T140000
DTSTAMP:20260422T030950
CREATED:20220609T110410Z
LAST-MODIFIED:20220609T110410Z
UID:931-1657461600-1657461600@vastseliina.eelk.ee
SUMMARY:Niitsiku kalmistupüha
DESCRIPTION:Mängib puhkpilliansambel Valdur Helmi juhatamisel
URL:https://vastseliina.eelk.ee/syndmus/niitsiku-kalmistupuha/
CATEGORIES:Varia
END:VEVENT
BEGIN:VEVENT
DTSTART;TZID=Europe/Tallinn:20220624T120000
DTEND;TZID=Europe/Tallinn:20220624T120000
DTSTAMP:20260422T030950
CREATED:20220609T104303Z
LAST-MODIFIED:20220609T111751Z
UID:915-1656072000-1656072000@vastseliina.eelk.ee
SUMMARY:Vastseliina I kalmistupüha
DESCRIPTION:Ristija Johannese sündimise püha e jaanipäev. Mängib puhkpilliansambel Valdur Helmi juhatamisel
URL:https://vastseliina.eelk.ee/syndmus/vastseliina-i-kalmistupuha/
CATEGORIES:Varia
END:VEVENT
END:VCALENDAR